BEGIN:VCALENDAR
VERSION:2.0
PRODID:-//The Worshipful Company of Human Resource Professionals - ECPv6.15.20//NONSGML v1.0//EN
CALSCALE:GREGORIAN
METHOD:PUBLISH
X-ORIGINAL-URL:https://hrprofessionals.org.uk
X-WR-CALDESC:Events for The Worshipful Company of Human Resource Professionals
REFRESH-INTERVAL;VALUE=DURATION:PT1H
X-Robots-Tag:noindex
X-PUBLISHED-TTL:PT1H
BEGIN:VTIMEZONE
TZID:Europe/London
BEGIN:DAYLIGHT
TZOFFSETFROM:+0000
TZOFFSETTO:+0100
TZNAME:BST
DTSTART:20170326T010000
END:DAYLIGHT
BEGIN:STANDARD
TZOFFSETFROM:+0100
TZOFFSETTO:+0000
TZNAME:GMT
DTSTART:20171029T010000
END:STANDARD
BEGIN:DAYLIGHT
TZOFFSETFROM:+0000
TZOFFSETTO:+0100
TZNAME:BST
DTSTART:20180325T010000
END:DAYLIGHT
BEGIN:STANDARD
TZOFFSETFROM:+0100
TZOFFSETTO:+0000
TZNAME:GMT
DTSTART:20181028T010000
END:STANDARD
BEGIN:DAYLIGHT
TZOFFSETFROM:+0000
TZOFFSETTO:+0100
TZNAME:BST
DTSTART:20190331T010000
END:DAYLIGHT
BEGIN:STANDARD
TZOFFSETFROM:+0100
TZOFFSETTO:+0000
TZNAME:GMT
DTSTART:20191027T010000
END:STANDARD
BEGIN:DAYLIGHT
TZOFFSETFROM:+0000
TZOFFSETTO:+0100
TZNAME:BST
DTSTART:20200329T010000
END:DAYLIGHT
BEGIN:STANDARD
TZOFFSETFROM:+0100
TZOFFSETTO:+0000
TZNAME:GMT
DTSTART:20201025T010000
END:STANDARD
END:VTIMEZONE
BEGIN:VEVENT
DTSTART;TZID=Europe/London:20190701T180000
DTEND;TZID=Europe/London:20190701T200000
DTSTAMP:20260422T173431
CREATED:20180823T143916Z
LAST-MODIFIED:20190529T143934Z
UID:10000129-1562004000-1562011200@hrprofessionals.org.uk
SUMMARY:Summer Drinks Party
DESCRIPTION:We would like you all to get the 1st July firmly fixed in your diaries so that you and your guests can join us for the Guild Summer Drinks Party in the beautiful garden at Stationers’ Hall\, weather permitting. This year we are pleased to announce that we will be having a jazz band from the Guildhall School of Music. \nThis will be a less formal event than we have previously held and tickets for members and their guests will be priced at £50\, with a small increase for those of you who wish to pay by card. Timing for this event will be 6:00 pm to 8:00 pm. \nWe look forward to welcoming you and your guests. \nCLICK HERE TO BOOK
URL:https://hrprofessionals.org.uk/event/summer-drinks-party/
LOCATION:Stationers’ Hall\, Ave Maria Lane\, London\, EC4M 7DD
CATEGORIES:HR Guild Event
ATTACH;FMTTYPE=image/jpeg:https://hrprofessionals.org.uk/wp-content/uploads/stationers-hall-garden.jpg
ORGANIZER;CN="Debbie Alder-Bentley":MAILTO:info@hrprofessionals.org.uk
GEO:51.514179;-0.100756
X-APPLE-STRUCTURED-LOCATION;VALUE=URI;X-ADDRESS=Stationers’ Hall Ave Maria Lane London EC4M 7DD;X-APPLE-RADIUS=500;X-TITLE=Ave Maria Lane:geo:-0.100756,51.514179
END:VEVENT
BEGIN:VEVENT
DTSTART;TZID=Europe/London:20181001T130000
DTEND;TZID=Europe/London:20181001T160000
DTSTAMP:20260422T173431
CREATED:20180823T142339Z
LAST-MODIFIED:20180823T142339Z
UID:10000127-1538398800-1538409600@hrprofessionals.org.uk
SUMMARY:Lunch following the election of the Lord Mayor
DESCRIPTION:
URL:https://hrprofessionals.org.uk/event/lunch-following-the-election-of-the-lord-mayor/
LOCATION:Stationers’ Hall\, Ave Maria Lane\, London\, EC4M 7DD
CATEGORIES:HR Guild Event
ATTACH;FMTTYPE=image/jpeg:https://hrprofessionals.org.uk/wp-content/uploads/stationers-hall.jpg
ORGANIZER;CN="Debbie Alder-Bentley":MAILTO:info@hrprofessionals.org.uk
GEO:51.514179;-0.100756
X-APPLE-STRUCTURED-LOCATION;VALUE=URI;X-ADDRESS=Stationers’ Hall Ave Maria Lane London EC4M 7DD;X-APPLE-RADIUS=500;X-TITLE=Ave Maria Lane:geo:-0.100756,51.514179
END:VEVENT
BEGIN:VEVENT
DTSTART;TZID=Europe/London:20180702T181500
DTEND;TZID=Europe/London:20180702T223000
DTSTAMP:20260422T173431
CREATED:20171214T151732Z
LAST-MODIFIED:20180501T165357Z
UID:10000118-1530555300-1530570600@hrprofessionals.org.uk
SUMMARY:Summer Banquet
DESCRIPTION:
URL:https://hrprofessionals.org.uk/event/summer-banquet/
LOCATION:Stationers’ Hall\, Ave Maria Lane\, London\, EC4M 7DD
CATEGORIES:HR Guild Event
ATTACH;FMTTYPE=image/jpeg:https://hrprofessionals.org.uk/wp-content/uploads/stationers-hall.jpg
GEO:51.514179;-0.100756
X-APPLE-STRUCTURED-LOCATION;VALUE=URI;X-ADDRESS=Stationers’ Hall Ave Maria Lane London EC4M 7DD;X-APPLE-RADIUS=500;X-TITLE=Ave Maria Lane:geo:-0.100756,51.514179
END:VEVENT
END:VCALENDAR