BEGIN:VCALENDAR
VERSION:2.0
PRODID:-//The Worshipful Company of Human Resource Professionals - ECPv6.15.20//NONSGML v1.0//EN
CALSCALE:GREGORIAN
METHOD:PUBLISH
X-ORIGINAL-URL:https://hrprofessionals.org.uk
X-WR-CALDESC:Events for The Worshipful Company of Human Resource Professionals
REFRESH-INTERVAL;VALUE=DURATION:PT1H
X-Robots-Tag:noindex
X-PUBLISHED-TTL:PT1H
BEGIN:VTIMEZONE
TZID:Europe/London
BEGIN:DAYLIGHT
TZOFFSETFROM:+0000
TZOFFSETTO:+0100
TZNAME:BST
DTSTART:20180325T010000
END:DAYLIGHT
BEGIN:STANDARD
TZOFFSETFROM:+0100
TZOFFSETTO:+0000
TZNAME:GMT
DTSTART:20181028T010000
END:STANDARD
BEGIN:DAYLIGHT
TZOFFSETFROM:+0000
TZOFFSETTO:+0100
TZNAME:BST
DTSTART:20190331T010000
END:DAYLIGHT
BEGIN:STANDARD
TZOFFSETFROM:+0100
TZOFFSETTO:+0000
TZNAME:GMT
DTSTART:20191027T010000
END:STANDARD
BEGIN:DAYLIGHT
TZOFFSETFROM:+0000
TZOFFSETTO:+0100
TZNAME:BST
DTSTART:20200329T010000
END:DAYLIGHT
BEGIN:STANDARD
TZOFFSETFROM:+0100
TZOFFSETTO:+0000
TZNAME:GMT
DTSTART:20201025T010000
END:STANDARD
END:VTIMEZONE
BEGIN:VEVENT
DTSTART;TZID=Europe/London:20191010T110000
DTEND;TZID=Europe/London:20191010T170000
DTSTAMP:20260422T153808
CREATED:20190801T120256Z
LAST-MODIFIED:20190801T133742Z
UID:10000137-1570705200-1570726800@hrprofessionals.org.uk
SUMMARY:Annual Networking and Educational Event - People_Tech
DESCRIPTION:For our 4th year running we are excited to present People_Tech\, a showcase of some of the best emerging technologies in the HR space. This includes tech from throughout the employee lifecycle\, including recruitment\, VR\, gamified selection\, digital coaching and the latest onboarding tech. \nAs an invite-only event\, we aim to bring together HR professionals at the top of their game in an intimate and innovative environment. The agenda includes industry speakers\, discussion groups and a tech safari – as well as an opportunity to network with a glass of wine afterwards. \nWhen: 10th of October\, 11am – 5pm followed with drinks & networking. \nWhere: Science Museum\, London. \nWhat: A tech safari ‘silent disco’\, industry speakers and discussion groups with leading HR professionals.
URL:https://hrprofessionals.org.uk/event/annual-networking-and-educational-event-people_tech/
LOCATION:Science Museum\, 64 Exhibition Rd\, Kensington\, London\, SW7 2DD
CATEGORIES:HR Guild Event
ATTACH;FMTTYPE=image/jpeg:https://hrprofessionals.org.uk/wp-content/uploads/science-museum.jpg
ORGANIZER;CN="Debbie Alder-Bentley":MAILTO:info@hrprofessionals.org.uk
GEO:51.4975094;-0.174646
X-APPLE-STRUCTURED-LOCATION;VALUE=URI;X-ADDRESS=Science Museum 64 Exhibition Rd Kensington London SW7 2DD;X-APPLE-RADIUS=500;X-TITLE=64 Exhibition Rd:geo:-0.174646,51.4975094
END:VEVENT
END:VCALENDAR