BEGIN:VCALENDAR
VERSION:2.0
PRODID:-//The Worshipful Company of Human Resource Professionals - ECPv6.15.20//NONSGML v1.0//EN
CALSCALE:GREGORIAN
METHOD:PUBLISH
X-ORIGINAL-URL:https://hrprofessionals.org.uk
X-WR-CALDESC:Events for The Worshipful Company of Human Resource Professionals
REFRESH-INTERVAL;VALUE=DURATION:PT1H
X-Robots-Tag:noindex
X-PUBLISHED-TTL:PT1H
BEGIN:VTIMEZONE
TZID:Europe/London
BEGIN:DAYLIGHT
TZOFFSETFROM:+0000
TZOFFSETTO:+0100
TZNAME:BST
DTSTART:20210328T010000
END:DAYLIGHT
BEGIN:STANDARD
TZOFFSETFROM:+0100
TZOFFSETTO:+0000
TZNAME:GMT
DTSTART:20211031T010000
END:STANDARD
BEGIN:DAYLIGHT
TZOFFSETFROM:+0000
TZOFFSETTO:+0100
TZNAME:BST
DTSTART:20220327T010000
END:DAYLIGHT
BEGIN:STANDARD
TZOFFSETFROM:+0100
TZOFFSETTO:+0000
TZNAME:GMT
DTSTART:20221030T010000
END:STANDARD
BEGIN:DAYLIGHT
TZOFFSETFROM:+0000
TZOFFSETTO:+0100
TZNAME:BST
DTSTART:20230326T010000
END:DAYLIGHT
BEGIN:STANDARD
TZOFFSETFROM:+0100
TZOFFSETTO:+0000
TZNAME:GMT
DTSTART:20231029T010000
END:STANDARD
END:VTIMEZONE
BEGIN:VEVENT
DTSTART;TZID=Europe/London:20221207T180000
DTEND;TZID=Europe/London:20221207T210000
DTSTAMP:20260420T132152
CREATED:20221019T115950Z
LAST-MODIFIED:20221021T105734Z
UID:10000166-1670436000-1670446800@hrprofessionals.org.uk
SUMMARY:Diversity and Inclusion evening event - 7 December 2022
DESCRIPTION:Members are invited to attend a event looking at Diversity and Inclusivity. \nTo tie in with our commitment to D&I\, you are invited to an evening  hosted by our new Court Assistant\, Jane Mann\, at the offices of Fox Williams \,10 Finsbury Square\, London EC2A 1AF  on 7th December   2022. \nWe are delighted that at this event\, Freeman Simon Fanshawe\, author of  “the power of difference“ will be our speaker.  It will also be an opportunity to update the membership on our own efforts to improve D&I within the Company . \nPlease book your place using the form below \nThere is no cost for this event
URL:https://hrprofessionals.org.uk/event/diversity-and-inclusion-evening-event-7-december-2022/
LOCATION:Fox Williams Offices\, 10 Finsbury Square\, London\, EC2A 1AF\, United Kingdom
ATTACH;FMTTYPE=image/png:https://hrprofessionals.org.uk/wp-content/uploads/cropped-Company-HRP-logo-1.png
ORGANIZER;CN="Debbie Alder-Bentley":MAILTO:info@hrprofessionals.org.uk
GEO:51.5212753;-0.0872347
X-APPLE-STRUCTURED-LOCATION;VALUE=URI;X-ADDRESS=Fox Williams Offices 10 Finsbury Square London EC2A 1AF United Kingdom;X-APPLE-RADIUS=500;X-TITLE=10 Finsbury Square:geo:-0.0872347,51.5212753
END:VEVENT
END:VCALENDAR