BEGIN:VCALENDAR
VERSION:2.0
PRODID:-//The Worshipful Company of Human Resource Professionals - ECPv6.15.20//NONSGML v1.0//EN
CALSCALE:GREGORIAN
METHOD:PUBLISH
X-ORIGINAL-URL:https://hrprofessionals.org.uk
X-WR-CALDESC:Events for The Worshipful Company of Human Resource Professionals
REFRESH-INTERVAL;VALUE=DURATION:PT1H
X-Robots-Tag:noindex
X-PUBLISHED-TTL:PT1H
BEGIN:VTIMEZONE
TZID:Europe/London
BEGIN:DAYLIGHT
TZOFFSETFROM:+0000
TZOFFSETTO:+0100
TZNAME:BST
DTSTART:20250330T010000
END:DAYLIGHT
BEGIN:STANDARD
TZOFFSETFROM:+0100
TZOFFSETTO:+0000
TZNAME:GMT
DTSTART:20251026T010000
END:STANDARD
BEGIN:DAYLIGHT
TZOFFSETFROM:+0000
TZOFFSETTO:+0100
TZNAME:BST
DTSTART:20260329T010000
END:DAYLIGHT
BEGIN:STANDARD
TZOFFSETFROM:+0100
TZOFFSETTO:+0000
TZNAME:GMT
DTSTART:20261025T010000
END:STANDARD
BEGIN:DAYLIGHT
TZOFFSETFROM:+0000
TZOFFSETTO:+0100
TZNAME:BST
DTSTART:20270328T010000
END:DAYLIGHT
BEGIN:STANDARD
TZOFFSETFROM:+0100
TZOFFSETTO:+0000
TZNAME:GMT
DTSTART:20271031T010000
END:STANDARD
END:VTIMEZONE
BEGIN:VEVENT
DTSTART;TZID=Europe/London:20260701T183000
DTEND;TZID=Europe/London:20260701T230000
DTSTAMP:20260422T154452
CREATED:20251029T171220Z
LAST-MODIFIED:20251029T171220Z
UID:10000225-1782930600-1782946800@hrprofessionals.org.uk
SUMMARY:Annual Summer BBQ
DESCRIPTION:The Master and Wardens of the Company of HR Professionals invites all members\, families and friends to the summer BBQ and drinks event Wednesday 1 July 2026. \nThe evening will be held on the terrace of the Doggett’s Coat and Badge and dress for the occasion is smart casual. \nEnjoy a beautiful summers evening in the company of other members beside the River Thames. This does promise to be an excellent and very informal evening \nCost for this exclusive event is £78 per head. This includes wine\, beer and soft drinks and a BBQ with a wide variety of items on offer. \nThis event is normally extremely popular and booking may close early.
URL:https://hrprofessionals.org.uk/event/annual-summer-bbq-2/
LOCATION:Dogget’s Coat and Badge\, 1 Blackfriars Bridge\,\, London\,\, SE1 9UD
ATTACH;FMTTYPE=image/jpeg:https://hrprofessionals.org.uk/wp-content/uploads/Doggets-Coat-and-Badge-2.jpg
ORGANIZER;CN="Debbie Alder-Bentley":MAILTO:info@hrprofessionals.org.uk
GEO:51.5084559;-0.1047851
X-APPLE-STRUCTURED-LOCATION;VALUE=URI;X-ADDRESS=Dogget’s Coat and Badge 1 Blackfriars Bridge London SE1 9UD;X-APPLE-RADIUS=500;X-TITLE=1 Blackfriars Bridge\,:geo:-0.1047851,51.5084559
END:VEVENT
END:VCALENDAR